BEGIN:VCALENDAR
VERSION:2.0
PRODID:-//Espoo Art r.y. - ECPv6.15.17.1//NONSGML v1.0//EN
CALSCALE:GREGORIAN
METHOD:PUBLISH
X-WR-CALNAME:Espoo Art r.y.
X-ORIGINAL-URL:https://espooart.fi
X-WR-CALDESC:Tapahtumat Espoo Art r.y.
REFRESH-INTERVAL;VALUE=DURATION:PT1H
X-Robots-Tag:noindex
X-PUBLISHED-TTL:PT1H
BEGIN:VTIMEZONE
TZID:Europe/Moscow
BEGIN:STANDARD
TZOFFSETFROM:+0300
TZOFFSETTO:+0300
TZNAME:MSK
DTSTART:20250101T000000
END:STANDARD
END:VTIMEZONE
BEGIN:VEVENT
DTSTART;VALUE=DATE:20260112
DTEND;VALUE=DATE:20260601
DTSTAMP:20260426T021650
CREATED:20260107T174238Z
LAST-MODIFIED:20260414T132711Z
UID:1317-1768176000-1780271999@espooart.fi
SUMMARY:Avoimet ja jatkuvat ryhmät keväällä 2026
DESCRIPTION:Avoin ateljee\, keskiviikkoisin klo 11–15 (avoin kaikille jäsenille) Maalausryhmä kokoontuu Auroratalon kurssitilassa (K-krs) keskiviikkoisin klo 11-15. Ryhmään mahtuu lisää omatoimisia maalareita. Mikäli olet kiinnostunut maalaamaan säännöllisesti tutussa porukassa\, tämä on yksi vaihtoehto. \nVisuaali – vertaisarviointiryhmä\, kerran kuukaudessa (9 krt/v) Ideana on\, että jokainen voi tuoda mukanaan 1–3 teosta yhteisesti arvioitavaksi. Työt käydään läpi yksi taiteilija kerrallaan: jokainen osallistuja kertoo ajatuksensa\, ja näin syntyy monipuolinen ja hedelmällinen keskustelu. Voit osallistua myös ilman omia teoksia – pelkkä katselu\, kuuntelu ja keskustelu antaa paljon uusia näkökulmia ja inspiraatiota. Kokoontumisajat ilmoitetaan sähköpostitse ja nettisivuilla. \nCroquis-piirustus\, keskiviikkoisin klo 18–20 neljän kertaa 29.4. – 20.5.2026. Ilmoittautuminen > \nKritiikki – palaute ammattilaiselta. Lisätietoa tulossa.
URL:https://espooart.fi/tilaisuus/avoimet-ja-jatkuvat-ryhmat-kevaalla-2026/
CATEGORIES:Kurssi
ATTACH;FMTTYPE=image/jpeg:https://espooart.fi/wp-content/uploads/2025/04/painter-1937575_1280.jpg
END:VEVENT
BEGIN:VEVENT
DTSTART;TZID=Europe/Moscow:20260423T080000
DTEND;TZID=Europe/Moscow:20261030T170000
DTSTAMP:20260426T021650
CREATED:20260423T181714Z
LAST-MODIFIED:20260423T183554Z
UID:2654-1776931200-1793379600@espooart.fi
SUMMARY:Espoo Art ry:n kultakehysnäyttelyn avajaiset Auroratalon Loungessa 22.4.2026
DESCRIPTION:Tervetuloa näyttelyyn\, joka on osa vuoden 2026 Espoo Art ry:n 50 -vuotisjuhlavuotta. Näyttely on Auroratalon Loungessa lokakuuhun saakka. Voit käydä katsomassa näyttelyä muiden tapahtumien yhteydessä.\n\nTämä näyttely sai innoituksensa Seppo Railion lahjoittamista kehyksistä veljensä Martin kuolinpesästä\, eli tällä kertaa päätimme edetä näyttelyssämme kehykset edellä!
URL:https://espooart.fi/tilaisuus/espoo-art-ryn-kultakehysnayttely-auroratalon-loungessa-huhtikuu-lokakuu-2026/
LOCATION:Auroratalo\, Kuninkaantie 43\, Espoo\, 02940\, Finland
CATEGORIES:Jäsentapahtumat,Näyttelyt ja yleisötapahtumat
ATTACH;FMTTYPE=image/jpeg:https://espooart.fi/wp-content/uploads/2026/04/Kultakehysnayttely-kaikki-kuvat-3-scaled.jpg
END:VEVENT
END:VCALENDAR